BEGIN:VCALENDAR
VERSION:2.0
PRODID:-//Tukios.com/
BEGIN:VEVENT
UID:5e8f57ce-65a8-440b-9b91-4a6155b96be2@www.shepardrobersonfh.com
DTSTAMP:20260422T205525Z
DTSTART:20260426T220000Z
DTEND:20260427T000000Z
SUMMARY:Visitation
DESCRIPTION:
URL:https://www.shepardrobersonfh.com/obituaries/iris-campbell
LOCATION:Shepard-Roberson Funeral Home 526 Oakwood St  Folkston GA 31537
GEO:30.8308927;-82.0018767
END:VEVENT
END:VCALENDAR