BEGIN:VCALENDAR
VERSION:2.0
PRODID:-//Tukios.com/
BEGIN:VEVENT
UID:769fe5fd-539b-4673-b2a2-31b0e9be2c7f@www.shepardrobersonfh.com
DTSTAMP:20260422T205345Z
DTSTART:20260427T150000Z
DTEND:20260427T160000Z
SUMMARY:Funeral Service
DESCRIPTION:
URL:https://www.shepardrobersonfh.com/obituaries/iris-campbell
LOCATION:Shepard-Roberson Funeral Home 526 Oakwood St  Folkston GA 31537
GEO:30.8308927;-82.0018767
END:VEVENT
END:VCALENDAR