BEGIN:VCALENDAR
VERSION:2.0
PRODID:-//Tukios.com/
BEGIN:VEVENT
UID:a8719ba5-cdfc-4323-b9e9-9a0ffae0414c@www.shepardrobersonfh.com
DTSTAMP:20260420T225410Z
DTSTART:20260425T150000Z
DTEND:20260425T160000Z
SUMMARY:Memorial Service
DESCRIPTION:
URL:https://www.shepardrobersonfh.com/obituaries/james-byrd-iii
LOCATION:Little Pheobe Church Little Pheobe Church Road  Folkston GA 
	31537
GEO:30.8107894;-82.0120018
END:VEVENT
END:VCALENDAR